BEGIN:VCALENDAR
PRODID:-//github.com/rianjs/ical.net//NONSGML ical.net 4.0//EN
VERSION:2.0
BEGIN:VEVENT
DESCRIPTION:Details:\nhttps://bbyo.org/bbyo-near-you/regions/great-midwest
 -region/mockingjay-gmr
DTEND;VALUE=DATE:20151119
DTSTAMP:20260420T125028Z
DTSTART;VALUE=DATE:20151119
LOCATION:
SEQUENCE:0
SUMMARY:Mockingjay GMR
UID:567d2019-e5c1-406b-b14c-0d25bdf8e80d
END:VEVENT
END:VCALENDAR
