BEGIN:VCALENDAR
PRODID:-//github.com/rianjs/ical.net//NONSGML ical.net 4.0//EN
VERSION:2.0
BEGIN:VEVENT
DESCRIPTION:Details:\nhttps://bbyo.org/bbyo-near-you/regions/northern-regi
 on-east-dc-council/j-serve-the-good-fight
DTEND:20230416T170000
DTSTAMP:20260424T150633Z
DTSTART:20230416T140000
LOCATION:Bender JCC
SEQUENCE:0
SUMMARY:J-Serve: The Good Fight
UID:f878edc8-dee2-4d66-910e-1c09a17aae9b
END:VEVENT
END:VCALENDAR
