BEGIN:VCALENDAR
PRODID:-//github.com/rianjs/ical.net//NONSGML ical.net 4.0//EN
VERSION:2.0
BEGIN:VEVENT
DESCRIPTION:Details:\nhttps://bbyo.org/bbyo-near-you/regions/greater-jerse
 y-region/gjhrr-central-council-bbg-shabbat-5000\n\nSummary:\nJoin Central
  Council BBGs in our annual BBG Shabbat Program!  Held in East Brunswick 
 and led by our Central Council Sh'licha\, enjoy a beautiful Shabbat servi
 ce with your BBG sisters with the
DTEND:20151113T210000
DTSTAMP:20260423T020624Z
DTSTART:20151113T190000
LOCATION:Natalie Turner's House
SEQUENCE:0
SUMMARY:GJHRR Central Council BBG Shabbat 5000
UID:ce92ad10-30f3-4e6e-993c-122093f2dfa9
END:VEVENT
END:VCALENDAR
