BEGIN:VCALENDAR
PRODID:-//github.com/rianjs/ical.net//NONSGML ical.net 4.0//EN
VERSION:2.0
BEGIN:VEVENT
DESCRIPTION:Details:\nhttps://bbyo.org/bbyo-near-you/regions/liberty-regio
 n/anti-semitism-and-social-media-fireside-chat-with-\n\nSummary:\nJoin Li
 berty Region BBYO and Shira Goodman\, Regional Director of the ADL Philad
 elphia\, for a fireside discussion on anti-Semitism in social media and t
 he internet. \n\nAll members\, prospective
DTEND:20210212T200000
DTSTAMP:20260424T003136Z
DTSTART:20210212T190000
LOCATION:Zoom
SEQUENCE:0
SUMMARY:Anti-Semitism and Social Media: Fireside Chat with Shira Goodman
UID:c624e23e-c38d-47d3-bba3-0394d6e6983b
END:VEVENT
END:VCALENDAR
