BEGIN:VCALENDAR
PRODID:-//github.com/rianjs/ical.net//NONSGML ical.net 4.0//EN
VERSION:2.0
BEGIN:VEVENT
DESCRIPTION:Details:\nhttps://bbyo.org/bbyo-near-you/regions/mid-america-r
 egion-north-star-council/north-star-end-of-the-year-pool-party!
DTEND:20220522T160000
DTSTAMP:20260419T185741Z
DTSTART:20220522T130000
LOCATION:Specific location information will be sent to confirmed registran
 ts
SEQUENCE:0
SUMMARY:North Star End of the Year Pool Party!
UID:a928986f-35de-4a00-aec1-b1ac01230a64
END:VEVENT
END:VCALENDAR
