BEGIN:VCALENDAR
PRODID:-//github.com/rianjs/ical.net//NONSGML ical.net 4.0//EN
VERSION:2.0
BEGIN:VEVENT
DESCRIPTION:Details:\nhttps://bbyo.org/bbyo-near-you/regions/pacific-weste
 rn-region/youth-led-yom-kippur-services
DTEND:20061002T130000
DTSTAMP:20260423T002001Z
DTSTART:20061002T100000
LOCATION:
SEQUENCE:0
SUMMARY:Youth-led Yom Kippur Services
UID:3e1d2501-af83-4228-ab44-6359a2b17f55
END:VEVENT
END:VCALENDAR
