BEGIN:VCALENDAR
PRODID:-//github.com/rianjs/ical.net//NONSGML ical.net 4.0//EN
VERSION:2.0
BEGIN:VEVENT
DESCRIPTION:Details:\nhttps://bbyo.org/bbyo-near-you/regions/north-florida
 -region/fall-con\n\nSummary:\nFall Con is our first convention of the yea
 r! It's going to be a convention like no other EVER before! Join us for t
 een led programming both virtual and in-person (depending on what feels c
 o
DTEND:20201114T230000
DTSTAMP:20260422T202544Z
DTSTART:20201113T190000
LOCATION:Virtual (with some chapter in-person opportunities)
SEQUENCE:0
SUMMARY:Fall Con
UID:a4d50317-0395-4e12-ac2d-bbfe82bb8e6c
END:VEVENT
END:VCALENDAR
