BEGIN:VCALENDAR
PRODID:-//github.com/rianjs/ical.net//NONSGML ical.net 4.0//EN
VERSION:2.0
BEGIN:VEVENT
DESCRIPTION:Details:\nhttps://bbyo.org/bbyo-near-you/regions/pacific-weste
 rn-region/san-diego-gulls-game
DTEND:20221203T220000
DTSTAMP:20260423T201045Z
DTSTART:20221203T180000
LOCATION:Pechanga Arena
SEQUENCE:0
SUMMARY:San Diego Gulls Game
UID:4e18cd15-182f-4166-8ed3-d05cf3ca9873
END:VEVENT
END:VCALENDAR
