BEGIN:VCALENDAR
PRODID:-//github.com/rianjs/ical.net//NONSGML ical.net 4.0//EN
VERSION:2.0
BEGIN:VEVENT
DESCRIPTION:Details:\nhttps://bbyo.org/bbyo-near-you/regions/pacific-weste
 rn-region/pacific-western-region-bbyo-presents-beau-ball-20
DTEND:20180317T000100
DTSTAMP:20260424T183657Z
DTSTART;VALUE=DATE:20180317
LOCATION:
SEQUENCE:0
SUMMARY:Pacific Western Region BBYO Presents: Beau Ball 2018
UID:82e1e05b-c6b6-4665-9fb6-0946e8a095e9
END:VEVENT
END:VCALENDAR
