BEGIN:VCALENDAR
PRODID:-//github.com/rianjs/ical.net//NONSGML ical.net 4.0//EN
VERSION:2.0
BEGIN:VEVENT
DESCRIPTION:Details:\nhttps://bbyo.org/bbyo-near-you/regions/hudson-valley
 -region/hvr-leadership-execs-chapter-boards-(1)
DTEND:20230910T143000
DTSTAMP:20260425T183201Z
DTSTART:20230909T180000
LOCATION:Camp Ramah
SEQUENCE:0
SUMMARY:HVR Leadership Execs - Chapter Boards
UID:6d11de47-7408-4f41-8eb5-7e7877b40a4d
END:VEVENT
END:VCALENDAR
