BEGIN:VCALENDAR
PRODID:-//github.com/rianjs/ical.net//NONSGML ical.net 4.0//EN
VERSION:2.0
BEGIN:VEVENT
DESCRIPTION:Details:\nhttps://bbyo.org/bbyo-near-you/regions/michigan-regi
 on/super-bowl-party-winter-kickoff-dinner-(pc-5000)
DTEND:20160207T180000
DTSTAMP:20260426T030258Z
DTSTART:20160207T173000
LOCATION:JCC Teen Center
SEQUENCE:0
SUMMARY:Super Bowl Party Winter Kickoff Dinner (PC:5000)
UID:e99ba2e1-6492-4028-8355-157c20108abd
END:VEVENT
END:VCALENDAR
