BEGIN:VCALENDAR
PRODID:-//github.com/rianjs/ical.net//NONSGML ical.net 4.0//EN
VERSION:2.0
BEGIN:VEVENT
DESCRIPTION:Details:\nhttps://bbyo.org/bbyo-near-you/regions/lonestar-regi
 on/cltc-3-2022\n\nSummary:\nChapter Leadership Training Conference (CLTC)
  is BBYO&rsquo\;s premier\, hands-on leadership experience for current 9t
 h and 10th grade members.
DTEND:20220717T090000
DTSTAMP:20260425T235104Z
DTSTART:20220705T090000
LOCATION:Wayne County Pennsylvania
SEQUENCE:0
SUMMARY:CLTC 3 2022
UID:550ff98e-798a-4054-8349-da97d4f11655
END:VEVENT
END:VCALENDAR
