BEGIN:VCALENDAR
PRODID:-//github.com/rianjs/ical.net//NONSGML ical.net 4.0//EN
VERSION:2.0
BEGIN:VEVENT
DESCRIPTION:Details:\nhttps://bbyo.org/bbyo-near-you/regions/keystone-moun
 tain-region/lead-into-tomorrow-(l-i-t-)-chapter-board-training\n\nSummary
 :\nLead Into Tomorrow (L.I.T.) chapter board training is a brand new even
 t this year! All Liberty regional and chapter board members are invited t
 o this one night overnight to prepare for the awesome year ahead!
DTEND:20190922T160000
DTSTAMP:20260423T042649Z
DTSTART:20190921T103000
LOCATION:Horsham Pennsylvania
SEQUENCE:0
SUMMARY:Lead Into Tomorrow (L.I.T.) Chapter Board Training
UID:caa554e5-4851-4b3b-969c-688ee290d94e
END:VEVENT
END:VCALENDAR
