BEGIN:VCALENDAR
PRODID:-//github.com/rianjs/ical.net//NONSGML ical.net 4.0//EN
VERSION:2.0
BEGIN:VEVENT
DESCRIPTION:Details:\nhttps://bbyo.org/bbyo-near-you/regions/great-midwest
 -region/gmr-spring-convention-2024
DTEND:20240414T140000
DTSTAMP:20260421T152228Z
DTSTART:20240412T180000
LOCATION:Northbrook Illinois
SEQUENCE:0
SUMMARY:GMR Spring Convention 2024
UID:fa9eb269-1184-40e5-b5f2-94e7825fd499
END:VEVENT
END:VCALENDAR
