BEGIN:VCALENDAR
PRODID:-//github.com/rianjs/ical.net//NONSGML ical.net 4.0//EN
VERSION:2.0
BEGIN:VEVENT
DESCRIPTION:Details:\nhttps://bbyo.org/bbyo-near-you/regions/nassau-suffol
 k-region/dance-a-thon-toy-drive\n\nSummary:\nDance a Thon/ Collect for To
 y Drive
DTEND;VALUE=DATE:20061217
DTSTAMP:20260422T055026Z
DTSTART:20061216T200000
LOCATION:TBA
SEQUENCE:0
SUMMARY:Dance-a-Thon/Toy Drive
UID:7578e473-16f6-43de-8a4c-b8236b5f281f
END:VEVENT
END:VCALENDAR
