BEGIN:VCALENDAR
PRODID:-//github.com/rianjs/ical.net//NONSGML ical.net 4.0//EN
VERSION:2.0
BEGIN:VEVENT
DESCRIPTION:Details:\nhttps://bbyo.org/bbyo-near-you/regions/greater-jerse
 y-region/gjhrr-lower-east-side-walking-food-eldridge-st-(1)\n\nSummary:\n
 Join your friends of GJHRR for a day filled with food and history.  On th
 is guided food tour of the Lower East Side\,  you'll visit several unique
  eateries and restaurants. Experience a number of tastes unique to this h
 istorical neighborhood in Manhattan\, including famous authentic delis\, 
 bakeries\, traditional appetizing stores and more! \nOur final stop on th
 is exciting tour will be the Eldridge Street Synagogue Museum where we wi
 ll have the opportunity to learn about Jewish history and this hidden gem
  within Lower Manhattan during an exciting private tour.\nIf you need the
  Marlboro or Clark stop\, please see Central Council signups!\nParamus Bu
 s Departs at 9:45am\nLivingston Bus Departs 10:30am\nWalking tour begins 
 at 12pm.  Museum tour ends at approximately 4pm and buses will begin thei
 r return back to NJ. Travel time will be determined based on traffic.
DTEND:20181108T170000
DTSTAMP:20260420T180505Z
DTSTART:20181108T120000
LOCATION:New York New York
SEQUENCE:0
SUMMARY:GJHRR Lower East Side Walking Food & Eldridge Street Synagogue Mus
 eum Tour (Northern Council Bus)
UID:54b6d846-6cc2-4b0f-a737-e5041a3e91dc
END:VEVENT
END:VCALENDAR
