BEGIN:VCALENDAR
PRODID:-//github.com/rianjs/ical.net//NONSGML ical.net 4.0//EN
VERSION:2.0
BEGIN:VEVENT
DESCRIPTION:Details:\nhttps://bbyo.org/bbyo-near-you/regions/pacific-weste
 rn-region/orange-county-global-shabbat
DTEND:20221209T203000
DTSTAMP:20260421T222724Z
DTSTART:20221209T180000
LOCATION:Newport Beach California
SEQUENCE:0
SUMMARY:Orange County Global Shabbat
UID:5c393f4c-c916-4f15-854b-9ca8bb9be703
END:VEVENT
END:VCALENDAR
