BEGIN:VCALENDAR
PRODID:-//github.com/rianjs/ical.net//NONSGML ical.net 4.0//EN
VERSION:2.0
BEGIN:VEVENT
DESCRIPTION:Details:\nhttps://bbyo.org/bbyo-near-you/regions/michigan-regi
 on/hatmadah/hatmadah-ann-arbor-scavenger-hunt
DTEND:20231021T173000
DTSTAMP:20260422T025120Z
DTSTART:20231021T153000
LOCATION:Ann Arbor Michigan
SEQUENCE:0
SUMMARY:Hatmadah Ann Arbor Scavenger Hunt
UID:774d6349-667a-4453-8798-94c688c4074c
END:VEVENT
END:VCALENDAR
