BEGIN:VCALENDAR
PRODID:-//github.com/rianjs/ical.net//NONSGML ical.net 4.0//EN
VERSION:2.0
BEGIN:VEVENT
DESCRIPTION:Details:\nhttps://bbyo.org/bbyo-near-you/regions/lake-ontario-
 region/aza-blue-jay-baseball-game\n\nSummary:\nFloor hockey players
DTEND;VALUE=DATE:20060509
DTSTAMP:20260426T030333Z
DTSTART;VALUE=DATE:20060509
LOCATION:
SEQUENCE:0
SUMMARY:AZA Blue Jay Baseball Game
UID:711ea851-9236-46f2-82c4-3c06593b2aef
END:VEVENT
END:VCALENDAR
