BEGIN:VCALENDAR
PRODID:-//github.com/rianjs/ical.net//NONSGML ical.net 4.0//EN
VERSION:2.0
BEGIN:VEVENT
DESCRIPTION:Details:\nhttps://bbyo.org/bbyo-near-you/regions/lonestar-regi
 on/houston-taste-of-bbyo-color-wall-tour
DTEND:20180211T000100
DTSTAMP:20260423T001929Z
DTSTART;VALUE=DATE:20180211
LOCATION:
SEQUENCE:0
SUMMARY:Houston Taste of BBYO: Color Wall Tour
UID:49620b0c-8fcf-421e-a4aa-8ad636affa90
END:VEVENT
END:VCALENDAR
