BEGIN:VCALENDAR
PRODID:-//github.com/rianjs/ical.net//NONSGML ical.net 4.0//EN
VERSION:2.0
BEGIN:VEVENT
DESCRIPTION:Details:\nhttps://bbyo.org/bbyo-near-you/regions/liberty-regio
 n/global-shabbat-with-liberty-region
DTEND:20201211T202000
DTSTAMP:20260424T003012Z
DTSTART:20201211T193000
LOCATION:Zoom
SEQUENCE:0
SUMMARY:Global Shabbat with Liberty Region
UID:3a1d0560-b20a-42cc-aa3a-e55113d31ad9
END:VEVENT
END:VCALENDAR
