BEGIN:VCALENDAR
PRODID:-//github.com/rianjs/ical.net//NONSGML ical.net 4.0//EN
VERSION:2.0
BEGIN:VEVENT
DESCRIPTION:Details:\nhttps://bbyo.org/bbyo-near-you/regions/great-midwest
 -region/gmr-ic-spirit-pack-$30-pc-2140\n\nSummary:\nPayment for IC Spirit
  - $30\nSpirit T-Shirt - Israel Day T-Shirt - Noisemaker - Headband
DTEND:20170218T120000
DTSTAMP:20260420T132427Z
DTSTART:20170210T120000
LOCATION:BBYO
SEQUENCE:0
SUMMARY:GMR IC Spirit Pack - $30   PC 2140
UID:6296ae15-dd1b-4c76-bb48-1c4aa4c8f700
END:VEVENT
END:VCALENDAR
