BEGIN:VCALENDAR
PRODID:-//github.com/rianjs/ical.net//NONSGML ical.net 4.0//EN
VERSION:2.0
BEGIN:VEVENT
DESCRIPTION:Details:\nhttps://bbyo.org/bbyo-near-you/regions/delta-region/
 csr-fall-regional-convention\n\nSummary:\nFall Regional Convention will b
 e the event to kickoff the year.  This leadership focused convention will
  have different tracks based on what you want to add to your skills.
DTEND:20180923T120000
DTSTAMP:20260423T081831Z
DTSTART:20180921T180000
LOCATION:Memphis Tennessee
SEQUENCE:0
SUMMARY:CSR Fall Regional Convention
UID:669618c6-184c-4de5-b268-6702a1123b78
END:VEVENT
END:VCALENDAR
