BEGIN:VCALENDAR
PRODID:-//github.com/rianjs/ical.net//NONSGML ical.net 4.0//EN
VERSION:2.0
BEGIN:VEVENT
DESCRIPTION:Details:\nhttps://bbyo.org/bbyo-near-you/regions/mid-america-r
 egion-kansas-city-council/twos-chapter-dinner
DTEND:20240905T190000
DTSTAMP:20260423T093212Z
DTSTART:20240905T170000
LOCATION:BDubs
SEQUENCE:0
SUMMARY:Twos Chapter Dinner
UID:2c105da7-b536-4d23-a05c-9cc24fb07968
END:VEVENT
END:VCALENDAR
