BEGIN:VCALENDAR
PRODID:-//github.com/rianjs/ical.net//NONSGML ical.net 4.0//EN
VERSION:2.0
BEGIN:VEVENT
DESCRIPTION:Details:\nhttps://bbyo.org/bbyo-near-you/regions/pacific-weste
 rn-region/pwr-kallah-overnight-regular-registration-(pc-4000
DTEND:20170129T120000
DTSTAMP:20260425T235327Z
DTSTART:20170128T140000
LOCATION:Alpert JCC
SEQUENCE:0
SUMMARY:PWR Kallah Overnight Regular Registration (PC 4000)
UID:9f380231-63a6-4d11-9c29-fabc1018fdab
END:VEVENT
END:VCALENDAR
