BEGIN:VCALENDAR
PRODID:-//github.com/rianjs/ical.net//NONSGML ical.net 4.0//EN
VERSION:2.0
BEGIN:VEVENT
DESCRIPTION:Details:\nhttps://bbyo.org/bbyo-near-you/regions/south-jersey-
 region/bbgg-x-girl-scouts-day-of-service
DTEND:20231105T160000
DTSTAMP:20260423T200719Z
DTSTART:20231105T130000
LOCATION:Medford New Jersey
SEQUENCE:0
SUMMARY:BBGG x Girl Scouts Day of Service
UID:067b9281-2676-4dbb-a22e-27c7587b5456
END:VEVENT
END:VCALENDAR
