BEGIN:VCALENDAR
PRODID:-//github.com/rianjs/ical.net//NONSGML ical.net 4.0//EN
VERSION:2.0
BEGIN:VEVENT
DESCRIPTION:Details:\nhttps://bbyo.org/bbyo-near-you/regions/keystone-moun
 tain-region/kmr-regional-convention-2016-(pc3030)\n\nSummary:\nCome to KM
 R’s final convention of the year to celebrate and say goodbye to the seni
 ors as they give their lives. You will also get to assist in electing KMR
 ’s 28th Regional Board! This is go
DTEND:20160522T110000
DTSTAMP:20260426T030418Z
DTSTART:20160520T160000
LOCATION:Pitt-Greensburg
SEQUENCE:0
SUMMARY:KMR- Regional Convention 2016 (PC3030)
UID:095252bd-ea16-4dff-9c35-2e52f436ab64
END:VEVENT
END:VCALENDAR
