BEGIN:VCALENDAR
PRODID:-//github.com/rianjs/ical.net//NONSGML ical.net 4.0//EN
VERSION:2.0
BEGIN:VEVENT
DESCRIPTION:Details:\nhttps://bbyo.org/bbyo-near-you/regions/keystone-moun
 tain-region/ic-2024-swag
DTEND:20240209T210000
DTSTAMP:20260424T183559Z
DTSTART:20240209T200000
LOCATION:
SEQUENCE:0
SUMMARY:IC 2024 Swag
UID:5daea478-ef75-4f25-a032-780c1d314730
END:VEVENT
END:VCALENDAR
