BEGIN:VCALENDAR
PRODID:-//github.com/rianjs/ical.net//NONSGML ical.net 4.0//EN
VERSION:2.0
BEGIN:VEVENT
DESCRIPTION:Details:\nhttps://bbyo.org/bbyo-near-you/regions/lake-ontario-
 region/lor-2017-05-07-bbyo-connect-niagara-falls-day-tr
DTEND:20170507T200000
DTSTAMP:20260423T201348Z
DTSTART:20170507T100000
LOCATION:Niagara Falls
SEQUENCE:0
SUMMARY:LOR 2017-05-07 - BBYO CONNECT Niagara Falls Day Trip
UID:7cb6d079-38b0-4590-ae29-744633e01937
END:VEVENT
END:VCALENDAR
