BEGIN:VCALENDAR
PRODID:-//github.com/rianjs/ical.net//NONSGML ical.net 4.0//EN
VERSION:2.0
BEGIN:VEVENT
DESCRIPTION:Details:\nhttps://bbyo.org/bbyo-near-you/regions/northern-regi
 on-east-baltimore-council/baltimore-bbyo-fall-kickoff-2020-bmorefest!\n\n
 Summary:\nJoin Baltimore Council for our Fall Kickoff- BmoreFest! It will
  be a night full of fun with a variety of activities and special guests! 
 \n\nThis event is open to any Jewish teen in grades 8-12
DTEND:20200912T213000
DTSTAMP:20260423T002247Z
DTSTART:20200912T200100
LOCATION:BBYO On Demand
SEQUENCE:0
SUMMARY:Baltimore BBYO Fall Kickoff 2020: BmoreFest!
UID:86c71109-c1c3-4750-9b8b-fd261b11b6ba
END:VEVENT
END:VCALENDAR
