BEGIN:VCALENDAR
PRODID:-//github.com/rianjs/ical.net//NONSGML ical.net 4.0//EN
VERSION:2.0
BEGIN:VEVENT
DESCRIPTION:Details:\nhttps://bbyo.org/bbyo-near-you/regions/evergreen-reg
 ion/portland-bbyo-fall-ruach-convention-hype-night
DTEND:20221023T150000
DTSTAMP:20260423T002104Z
DTSTART:20221023T130000
LOCATION:Portland Oregon
SEQUENCE:0
SUMMARY:Portland BBYO Fall Ruach Convention Hype Night
UID:d1a626f6-99da-4daa-a64b-354a4576c3f1
END:VEVENT
END:VCALENDAR
