BEGIN:VCALENDAR
PRODID:-//github.com/rianjs/ical.net//NONSGML ical.net 4.0//EN
VERSION:2.0
BEGIN:VEVENT
DESCRIPTION:Details:\nhttps://bbyo.org/bbyo-near-you/regions/pacific-weste
 rn-region/gal-chadash/san-diego-sukkot-shabbat-dinner
DTEND:20210924T203000
DTSTAMP:20260422T202559Z
DTSTART:20210924T183000
LOCATION:Lawrence Family JCC
SEQUENCE:0
SUMMARY:San Diego Sukkot Shabbat Dinner
UID:ebc9eff5-90c9-49cb-ad97-608244038622
END:VEVENT
END:VCALENDAR
