BEGIN:VCALENDAR
PRODID:-//github.com/rianjs/ical.net//NONSGML ical.net 4.0//EN
VERSION:2.0
BEGIN:VEVENT
DESCRIPTION:Details:\nhttps://bbyo.org/bbyo-near-you/regions/evergreen-reg
 ion/egr-madness
DTEND;VALUE=DATE:20230403
DTSTAMP:20260423T042648Z
DTSTART:20230316T030000
LOCATION:
SEQUENCE:0
SUMMARY:EGR Madness
UID:6b55b1ec-48f7-4705-9e71-89c61d7b8a56
END:VEVENT
END:VCALENDAR
