BEGIN:VCALENDAR
PRODID:-//github.com/rianjs/ical.net//NONSGML ical.net 4.0//EN
VERSION:2.0
BEGIN:VEVENT
DESCRIPTION:Details:\nhttps://bbyo.org/bbyo-near-you/regions/north-texas-o
 klahoma-region/aleph-engagement-overnight
DTEND:20230910T080000
DTSTAMP:20260423T081954Z
DTSTART:20230909T190000
LOCATION:Celina Texas
SEQUENCE:0
SUMMARY:Aleph Engagement Overnight
UID:f29e9f27-aefd-46dd-bfad-aba2e17f62f2
END:VEVENT
END:VCALENDAR
