BEGIN:VCALENDAR
PRODID:-//github.com/rianjs/ical.net//NONSGML ical.net 4.0//EN
VERSION:2.0
BEGIN:VEVENT
DESCRIPTION:Details:\nhttps://bbyo.org/bbyo-near-you/regions/manhattan-reg
 ion/manhattan-test\n\nSummary:\ntest
DTEND:20170513T170000
DTSTAMP:20260422T113405Z
DTSTART:20170512T160000
LOCATION:test
SEQUENCE:0
SUMMARY:Manhattan test
UID:c6d7d46f-c614-4b8b-92fa-8312d8d723d2
END:VEVENT
END:VCALENDAR
