BEGIN:VCALENDAR
PRODID:-//github.com/rianjs/ical.net//NONSGML ical.net 4.0//EN
VERSION:2.0
BEGIN:VEVENT
DESCRIPTION:Details:\nhttps://bbyo.org/bbyo-near-you/regions/northern-regi
 on-east-dc-council/dc-council-sweetheart-heartthrob-2019\n\nSummary:\nCom
 e dance the night away with us at Sweetheart Heartthrob\, DC Council's an
 nual semi-formal dance!\n\nAfter the two-day FLASH SALE of $55 on Novembe
 r 5th and 6th (LINK HERE)\, the price goes up
DTEND:20191127T220000
DTSTAMP:20260420T132349Z
DTSTART:20191127T193000
LOCATION:Rockville Maryland
SEQUENCE:0
SUMMARY:DC Council Sweetheart Heartthrob 2019
UID:4cfe6539-c50c-4d6c-8e61-37401112674a
END:VEVENT
END:VCALENDAR
