BEGIN:VCALENDAR
PRODID:-//github.com/rianjs/ical.net//NONSGML ical.net 4.0//EN
VERSION:2.0
BEGIN:VEVENT
DESCRIPTION:Details:\nhttps://bbyo.org/bbyo-near-you/regions/new-england-r
 egion/ner-avengers-movie\n\nSummary:\nSee the new Avengers movie with BBY
 O!\n\nBBYO members can access this exclusive deal by bringing a friend (n
 on-member prospect) to the event with you.\n\n$10 for two tickets (one fo
 r you and you
DTEND:20190428T163000
DTSTAMP:20260423T201046Z
DTSTART:20190428T140000
LOCATION:Boston Massachusetts
SEQUENCE:0
SUMMARY:NER Avengers Movie
UID:7948ca93-36c0-4e65-8381-fa3a9498db63
END:VEVENT
END:VCALENDAR
