BEGIN:VCALENDAR
PRODID:-//github.com/rianjs/ical.net//NONSGML ical.net 4.0//EN
VERSION:2.0
BEGIN:VEVENT
DESCRIPTION:Details:\nhttps://bbyo.org/bbyo-near-you/regions/mid-america-r
 egion-kansas-city-council/kc-dinner-fundraiser\n\nSummary:\nEat at or ord
 er from Corner Bakery and 15% of your meal will be donated to KC BBYO! We
  appreciate your support of our program!
DTEND:20191212T180000
DTSTAMP:20260422T113526Z
DTSTART:20191212T070000
LOCATION:Leawood Kansas
SEQUENCE:0
SUMMARY:KC Dinner Fundraiser
UID:9bd83e4f-1656-4582-ad3b-a73904e21a1c
END:VEVENT
END:VCALENDAR
