BEGIN:VCALENDAR
PRODID:-//github.com/rianjs/ical.net//NONSGML ical.net 4.0//EN
VERSION:2.0
BEGIN:VEVENT
DESCRIPTION:Details:\nhttps://bbyo.org/bbyo-near-you/regions/wisconsin-reg
 ion/wisconsin-src
DTEND:20230514T130000
DTSTAMP:20260423T002128Z
DTSTART:20230512T160000
LOCATION:Camp Timberlee
SEQUENCE:0
SUMMARY:Wisconsin SRC
UID:a00737e2-e4fc-4afa-a0c5-e06b657fb9cf
END:VEVENT
END:VCALENDAR
