BEGIN:VCALENDAR
PRODID:-//github.com/rianjs/ical.net//NONSGML ical.net 4.0//EN
VERSION:2.0
BEGIN:VEVENT
DESCRIPTION:Details:\nhttps://bbyo.org/bbyo-near-you/regions/greater-jerse
 y-region/northern-council-aza-shabbat-(pc-5000)\n\nSummary:\nCome out for
  an amazing night of bonding and learning with your brothers!! From an am
 azing service to a spectacular program you will not wan't to miss this pr
 ogram taking place 6-10 at Templ
DTEND:20161202T220000
DTSTAMP:20260425T235104Z
DTSTART:20161202T180000
LOCATION:Temple B'nai Abraham
SEQUENCE:0
SUMMARY:Northern Council AZA Shabbat (PC 5000)
UID:6981f75f-2df7-44d0-a77d-87b46046d7d0
END:VEVENT
END:VCALENDAR
