BEGIN:VCALENDAR
PRODID:-//github.com/rianjs/ical.net//NONSGML ical.net 4.0//EN
VERSION:2.0
BEGIN:VEVENT
DESCRIPTION:Details:\nhttps://bbyo.org/bbyo-near-you/regions/central-regio
 n-west/bbyo-central-region-west-presents-kickoff-on-ice\n\nSummary:\nShar
 pen your skates and join us and hundreds of Jewish teens from across the 
 Bay Area to celebrate BBYO Central Region West’s Winter Kickoff: On Ice!
DTEND:20190119T220000
DTSTAMP:20260422T144318Z
DTSTART:20190119T200000
LOCATION:San Jose  California
SEQUENCE:0
SUMMARY:BBYO Central Region West Presents: Kickoff on Ice
UID:f78d74f4-7c52-4d33-82ba-37467653c48e
END:VEVENT
END:VCALENDAR
