BEGIN:VCALENDAR
PRODID:-//github.com/rianjs/ical.net//NONSGML ical.net 4.0//EN
VERSION:2.0
BEGIN:VEVENT
DESCRIPTION:Details:\nhttps://bbyo.org/bbyo-near-you/regions/miami-region/
 aventura-minute-to-win-it
DTEND:20231026T193000
DTSTAMP:20260422T202544Z
DTSTART:20231026T183000
LOCATION:Temple Sinai North Miami Beach
SEQUENCE:0
SUMMARY:Aventura Minute to Win it
UID:f5ebfaed-2e51-40c0-8351-bfe984d69eaf
END:VEVENT
END:VCALENDAR
