BEGIN:VCALENDAR
PRODID:-//github.com/rianjs/ical.net//NONSGML ical.net 4.0//EN
VERSION:2.0
BEGIN:VEVENT
DESCRIPTION:Details:\nhttps://bbyo.org/bbyo-near-you/regions/wisconsin-reg
 ion/ohmneg-(spa-oneg)
DTEND:20240105T170000
DTSTAMP:20260419T145033Z
DTSTART:20240105T150000
LOCATION:Offices
SEQUENCE:0
SUMMARY:OhmNeg (Spa Oneg)
UID:6c6c2585-65e1-4a82-a6f3-3ef275fc2ab3
END:VEVENT
END:VCALENDAR
