BEGIN:VCALENDAR
PRODID:-//github.com/rianjs/ical.net//NONSGML ical.net 4.0//EN
VERSION:2.0
BEGIN:VEVENT
DESCRIPTION:Details:\nhttps://bbyo.org/bbyo-near-you/regions/nassau-suffol
 k-region/hakotel-carvel-pop-up
DTEND:20220519T210000
DTSTAMP:20260419T185740Z
DTSTART:20220519T200000
LOCATION:Carvel RVC
SEQUENCE:0
SUMMARY:Hakotel Carvel Pop-Up
UID:972d5d3a-83e3-461d-bfd0-f7640a77dc61
END:VEVENT
END:VCALENDAR
