BEGIN:VCALENDAR
PRODID:-//github.com/rianjs/ical.net//NONSGML ical.net 4.0//EN
VERSION:2.0
BEGIN:VEVENT
DESCRIPTION:Details:\nhttps://bbyo.org/bbyo-near-you/regions/liberty-regio
 n/west-chester-global-shabbat-community-dinner-havda
DTEND:20231209T210000
DTSTAMP:20260420T132329Z
DTSTART:20231209T180000
LOCATION:Chester Springs Pennsylvania
SEQUENCE:0
SUMMARY:West Chester Global Shabbat Community Dinner & Havdalah
UID:1a839449-dfec-4181-93ed-9f9dfbb993f2
END:VEVENT
END:VCALENDAR
