BEGIN:VCALENDAR
PRODID:-//github.com/rianjs/ical.net//NONSGML ical.net 4.0//EN
VERSION:2.0
BEGIN:VEVENT
DESCRIPTION:Details:\nhttps://bbyo.org/bbyo-near-you/regions/connecticut-v
 alley-region/travis-scott-extra-ticket-order
DTEND:20190309T231800
DTSTAMP:20260425T194811Z
DTSTART:20190309T190000
LOCATION:
SEQUENCE:0
SUMMARY:Travis Scott Extra Ticket Order
UID:c75a2e08-408d-4b4d-a7f0-4cb9823632ff
END:VEVENT
END:VCALENDAR
