BEGIN:VCALENDAR
PRODID:-//github.com/rianjs/ical.net//NONSGML ical.net 4.0//EN
VERSION:2.0
BEGIN:VEVENT
DESCRIPTION:Details:\nhttps://bbyo.org/bbyo-near-you/regions/rocky-mountai
 n-region/rocky-mountain-region-autumn-regional-kallah-2023
DTEND:20231105T130000
DTSTAMP:20260425T183126Z
DTSTART:20231103T160000
LOCATION:Hotel in Denver
SEQUENCE:0
SUMMARY:Rocky Mountain Region Autumn Regional Kallah 2023
UID:1646067d-478f-4138-8146-25b3c6234859
END:VEVENT
END:VCALENDAR
