BEGIN:VCALENDAR
PRODID:-//github.com/rianjs/ical.net//NONSGML ical.net 4.0//EN
VERSION:2.0
BEGIN:VEVENT
DESCRIPTION:Details:\nhttps://bbyo.org/bbyo-near-you/regions/nassau-suffol
 k-region/nsr-summer-launch-night
DTEND:20231102T203000
DTSTAMP:20260423T114336Z
DTSTART:20231102T190000
LOCATION:Temple Or Elohim
SEQUENCE:0
SUMMARY:NSR Summer Launch Night
UID:54da18fd-09dc-454a-8415-2b86731039b7
END:VEVENT
END:VCALENDAR
