BEGIN:VCALENDAR
PRODID:-//github.com/rianjs/ical.net//NONSGML ical.net 4.0//EN
VERSION:2.0
BEGIN:VEVENT
DESCRIPTION:Details:\nhttps://bbyo.org/bbyo-near-you/regions/evergreen-reg
 ion/achayot/spa-night-w-achayot\n\nSummary:\nLet's get comfy and relaxed!
  Come for facemasks and fun!
DTEND:20200203T203000
DTSTAMP:20260420T162808Z
DTSTART:20200203T193000
LOCATION:Stroum JCC
SEQUENCE:0
SUMMARY:Spa Night W/ Achayot
UID:62028fe1-4b40-48a9-82a8-f93c4d113128
END:VEVENT
END:VCALENDAR
