BEGIN:VCALENDAR
PRODID:-//github.com/rianjs/ical.net//NONSGML ical.net 4.0//EN
VERSION:2.0
BEGIN:VEVENT
DESCRIPTION:Details:\nhttps://bbyo.org/bbyo-near-you/regions/central-regio
 n-west/cltc-4-2022\n\nSummary:\nChapter Leadership Training Conference (C
 LTC) is BBYO&rsquo\;s premier\, hands-on leadership experience for curren
 t 9th and 10th grade members.
DTEND:20220731T090000
DTSTAMP:20260421T113532Z
DTSTART:20220719T090000
LOCATION:Wayne County Pennsylvania
SEQUENCE:0
SUMMARY:CLTC 4 2022
UID:280cb1be-1e71-4515-9010-dad6f9375424
END:VEVENT
END:VCALENDAR
